Workbook

Sheet Welcome...
A1: CURRICULUM PROGRESS: SCIENCE
A2: Created by Parbold Douglas Church of England Academy Website parbold.org Twitter @ParboldDouglas
A5: Introduction
A6: The tracker was made by teachers and school leaders in a primary school setting. It is not made for any commercial or financial gain. It was designed to be simple, straightforward and provide curriculum leaders and teachers with quick access to useful information and analysis. The tracker is designed to be used flexibly with any curriculum model. Whilst purposeful, manageable assessment has an essential role to play in effective teaching practice, the design and delivery of an excellent curriculum always comes first. We firmly believe that teachers' time is best spent working alongside children and planning learning opportunities that stretch, challenge and facilitate their academic progress. However, many of the 'assessment' tools designed to support practitioners act as a barrier to this: invariably, they are incredibly time-consuming and can lack validity. This means the data proves of little use when planning next steps in learning. In seeking to create a tool that is purposeful and manageable, this tracking tool was born. It has been carefully developed so that it is workload-friendly for teachers whilst being rich in the information it provides. It is designed to sit alongside any curriculum model and focuses on identifying which pupils need additional support. Teachers should also consider how to challenge pupils who are judged to be 'on track'. We don't expect it to be right for every school but hope that many will find it useful! The instructions below explain how to set up and use the tracker. For further information about our thinking, visit our website or sign up to one of our online sessions.
A8: How to set up the tracker:
A9: 1. Within each year group tab, enter the pupil information.
A10: 2. The traker is now ready to use!
A12: How to use the tracking sheets for each year group:
A13: The tracking sheets can be updated as often as you choose.
A14: 1. For each child, select the statement from the drop-down menu that best describes their current attainment within the subject. There are two statements to select from: Monitoring On track to meet curriculum-related* expectations *Your curriculum is your progression model. If a child is accessing and moving through your curriculum in the way you expect, they are 'On track to meet curriculum-related expectations'.
A15: 2. Use the analysis provided to inform your planning and provision! Scroll to the right to find the instant attainment analysis for each pupil group.
A17: Summary sheet:
... A23: Please share freely. Not to be sold.

Sheet Year 1
A1: CURRICULUM PROGRESS: SCIENCE | I1: CURRICULUM PROGRESS: SCIENCE
B2: PUPIL INFORMATION | G2: SCIENCE
A3: NAME | B3: Gender | C3: DIS | D3: SEND | E3: High attainers | F3: EAL | G3: Current assessment | I3: Current assessment: Analysis summary | K3: All pupils | L3: Boys | M3: Girls | N3: DIS | O3: SEND | P3: High attainers | Q3: EAL
I4: Monitoring | J4: Tally | K4: =COUNTIF(G4:G48, "Monitoring") -> 0 | L4: =COUNTIFS(G4:G48, "Monitoring",$B4:$B48, "m") -> 0 | M4: =COUNTIFS(G4:G48, "Monitoring",$B4:$B48, "f") -> 0 | N4: =COUNTIFS(G4:G48, "Monitoring",$C4:$C48, "*") -> 0 | O4: =COUNTIFS(G4:G48, "Monitoring",$D4:$D48, "*") -> 0 | P4: =COUNTIFS(G4:G48, "Monitoring",$E4:$E48, "*") -> 0 | Q4: =COUNTIFS(G4:G48, "Monitoring",$F4:$F48, "*") -> 0
J5: Percentage | K5: =K4/$B$49 -> #DIV/0! | L5: =L4/$B$50 -> #DIV/0! | M5: =M4/$B$51 -> #DIV/0! | N5: =N4/$C$49 -> #DIV/0! | O5: =O4/$D$49 -> #DIV/0! | P5: =P4/$E$49 -> #DIV/0! | Q5: =Q4/$F$49 -> #DIV/0!
I6: On track (inc. Aiming high) | J6: Tally | K6: =COUNTIF(G4:G48, "On track to meet curriculum-related expectations") -> 0 | L6: =COUNTIFS(G4:G48, "On track to meet curriculum-related expectations", $B4:$B48, "m") -> 0 | M6: =COUNTIFS(G4:G48, "On track to meet curriculum-related expectations", $B4:$B48, "f") -> 0 | N6: =COUNTIFS(G4:G48, "On track to meet curriculum-related expectations", $C4:$C48, "*") -> 0 | O6: =COUNTIFS(G4:G48, "On track to meet curriculum-related expectations", $D4:$D48, "*") -> 0 | P6: =COUNTIFS(G4:G48, "On track to meet curriculum-related expectations", $E4:$E48, "*") -> 0 | Q6: =COUNTIFS(G4:G48, "On track to meet curriculum-related expectations", $F4:$F48, "*") -> 0
J7: Percentage | K7: =K6/$B$49 -> #DIV/0! | L7: =L6/$B$50 -> #DIV/0! | M7: =M6/$B$51 -> #DIV/0! | N7: =N6/$C$49 -> #DIV/0! | O7: =O6/$D$49 -> #DIV/0! | P7: =P6/$E$49 -> #DIV/0! | Q7: =Q6/$F$49 -> #DIV/0!
A49: TOTALS | B49: =COUNTIF(B4:B48,"*") -> 0 | C49: =COUNTIF(C4:C48,"*") -> 0 | D49: =COUNTIF(D4:D48,"*") -> 0 | E49: =COUNTIF(E4:E48,"*") -> 0 | F49: =COUNTIF(F4:F48,"*") -> 0
A50: BOYS | B50: =COUNTIF(B4:B48,"M") -> 0 | C50: =COUNTIFS(C4:C48, "*", B4:B48, "m") -> 0 | D50: =COUNTIFS(D4:D48, "*", $B4:$B48, "m") -> 0 | E50: =COUNTIFS(E4:E48, "*", $B4:$B48, "m") -> 0 | F50: =COUNTIFS(F4:F48, "*", $B4:$B48, "m") -> 0
A51: GIRLS | B51: =COUNTIF(B4:B48,"F") -> 0 | C51: =COUNTIFS(C4:C48, "*", B4:B48, "f") -> 0 | D51: =COUNTIFS(D4:D48, "*", $B4:$B48, "f") -> 0 | E51: =COUNTIFS(E4:E48, "*", $B4:$B48, "f") -> 0 | F51: =COUNTIFS(F4:F48, "*", $B4:$B48, "f") -> 0

Sheet Year 2
A1: CURRICULUM PROGRESS: SCIENCE | I1: CURRICULUM PROGRESS: SCIENCE
B2: PUPIL INFORMATION | G2: SCIENCE
A3: NAME | B3: Gender | C3: DIS | D3: SEND | E3: High attainers | F3: EAL | G3: Current assessment | I3: Current assessment: Analysis summary | K3: All pupils | L3: Boys | M3: Girls | N3: DIS | O3: SEND | P3: High attainers | Q3: EAL
I4: Monitoring | J4: Tally | K4: =COUNTIF(G4:G48, "Monitoring") -> 0 | L4: =COUNTIFS(G4:G48, "Monitoring", $B4:$B48, "m") -> 0 | M4: =COUNTIFS(G4:G48, "Monitoring", $B4:$B48, "f") -> 0 | N4: =COUNTIFS(G4:G48, "Monitoring", $C4:$C48, "*") -> 0 | O4: =COUNTIFS(G4:G48, "Monitoring", $D4:$D48, "*") -> 0 | P4: =COUNTIFS(G4:G48, "Monitoring", $E4:$E48, "*") -> 0 | Q4: =COUNTIFS(G4:G48, "Monitoring", $F4:$F48, "*") -> 0
J5: Percentage | K5: =K4/$B$49 -> #DIV/0! | L5: =L4/$B$50 -> #DIV/0! | M5: =M4/$B$51 -> #DIV/0! | N5: =N4/$C$49 -> #DIV/0! | O5: =O4/$D$49 -> #DIV/0! | P5: =P4/$E$49 -> #DIV/0! | Q5: =Q4/$F$49 -> #DIV/0!
I6: On track (inc. Aiming high) | J6: Tally | K6: =COUNTIF(G4:G48, "On track to meet curriculum-related expectations") -> 0 | L6: =COUNTIFS(G4:G48, "On track to meet curriculum-related expectations", $B4:$B48, "m") -> 0 | M6: =COUNTIFS(G4:G48, "On track to meet curriculum-related expectations", $B4:$B48, "f") -> 0 | N6: =COUNTIFS(G4:G48, "On track to meet curriculum-related expectations", $C4:$C48, "*") -> 0 | O6: =COUNTIFS(G4:G48, "On track to meet curriculum-related expectations", $D4:$D48, "*") -> 0 | P6: =COUNTIFS(G4:G48, "On track to meet curriculum-related expectations", $E4:$E48, "*") -> 0 | Q6: =COUNTIFS(G4:G48, "On track to meet curriculum-related expectations", $F4:$F48, "*") -> 0
J7: Percentage | K7: =K6/$B$49 -> #DIV/0! | L7: =L6/$B$50 -> #DIV/0! | M7: =M6/$B$51 -> #DIV/0! | N7: =N6/$C$49 -> #DIV/0! | O7: =O6/$D$49 -> #DIV/0! | P7: =P6/$E$49 -> #DIV/0! | Q7: =Q6/$F$49 -> #DIV/0!
A49: TOTALS | B49: =COUNTIF(B4:B48,"*") -> 0 | C49: =COUNTIF(C4:C48,"*") -> 0 | D49: =COUNTIF(D4:D48,"*") -> 0 | E49: =COUNTIF(E4:E48,"*") -> 0 | F49: =COUNTIF(F4:F48,"*") -> 0
A50: BOYS | B50: =COUNTIF(B4:B48,"M") -> 0 | C50: =COUNTIFS(C4:C48, "*", B4:B48, "m") -> 0 | D50: =COUNTIFS(D4:D48, "*", $B4:$B48, "m") -> 0 | E50: =COUNTIFS(E4:E48, "*", $B4:$B48, "m") -> 0 | F50: =COUNTIFS(F4:F48, "*", $B4:$B48, "m") -> 0
A51: GIRLS | B51: =COUNTIF(B4:B48,"F") -> 0 | C51: =COUNTIFS(C4:C48, "*", B4:B48, "f") -> 0 | D51: =COUNTIFS(D4:D48, "*", $B4:$B48, "f") -> 0 | E51: =COUNTIFS(E4:E48, "*", $B4:$B48, "f") -> 0 | F51: =COUNTIFS(F4:F48, "*", $B4:$B48, "f") -> 0

Sheet Year 3
A1: CURRICULUM PROGRESS: SCIENCE | I1: CURRICULUM PROGRESS: SCIENCE
B2: PUPIL INFORMATION | G2: SCIENCE
A3: NAME | B3: Gender | C3: DIS | D3: SEND | E3: High attainers | F3: EAL | G3: Current assessment | I3: Current assessment: Analysis summary | K3: All pupils | L3: Boys | M3: Girls | N3: DIS | O3: SEND | P3: High attainers | Q3: EAL
I4: Monitoring | J4: Tally | K4: =COUNTIF(G4:G48, "Monitoring") -> 0 | L4: =COUNTIFS(G4:G48, "Monitoring",$B4:$B48, "m") -> 0 | M4: =COUNTIFS(G4:G48, "Monitoring",$B4:$B48, "f") -> 0 | N4: =COUNTIFS(G4:G48, "Monitoring",$C4:$C48, "*") -> 0 | O4: =COUNTIFS(G4:G48, "Monitoring",$D4:$D48, "*") -> 0 | P4: =COUNTIFS(G4:G48, "Monitoring",$E4:$E48, "*") -> 0 | Q4: =COUNTIFS(G4:G48, "Monitoring",$F4:$F48, "*") -> 0
J5: Percentage | K5: =K4/$B$49 -> #DIV/0! | L5: =L4/$B$50 -> #DIV/0! | M5: =M4/$B$51 -> #DIV/0! | N5: =N4/$C$49 -> #DIV/0! | O5: =O4/$D$49 -> #DIV/0! | P5: =P4/$E$49 -> #DIV/0! | Q5: =Q4/$F$49 -> #DIV/0!
I6: On track (inc. Aiming high) | J6: Tally | K6: =COUNTIF(G4:G48, "On track to meet curriculum-related expectations") -> 0 | L6: =COUNTIFS(G4:G48, "On track to meet curriculum-related expectations", $B4:$B48, "m") -> 0 | M6: =COUNTIFS(G4:G48, "On track to meet curriculum-related expectations", $B4:$B48, "f") -> 0 | N6: =COUNTIFS(G4:G48, "On track to meet curriculum-related expectations", $C4:$C48, "*") -> 0 | O6: =COUNTIFS(G4:G48, "On track to meet curriculum-related expectations", $D4:$D48, "*") -> 0 | P6: =COUNTIFS(G4:G48, "On track to meet curriculum-related expectations", $E4:$E48, "*") -> 0 | Q6: =COUNTIFS(G4:G48, "On track to meet curriculum-related expectations", $F4:$F48, "*") -> 0
J7: Percentage | K7: =K6/$B$49 -> #DIV/0! | L7: =L6/$B$50 -> #DIV/0! | M7: =M6/$B$51 -> #DIV/0! | N7: =N6/$C$49 -> #DIV/0! | O7: =O6/$D$49 -> #DIV/0! | P7: =P6/$E$49 -> #DIV/0! | Q7: =Q6/$F$49 -> #DIV/0!
A49: TOTALS | B49: =COUNTIF(B4:B48,"*") -> 0 | C49: =COUNTIF(C4:C48,"*") -> 0 | D49: =COUNTIF(D4:D48,"*") -> 0 | E49: =COUNTIF(E4:E48,"*") -> 0 | F49: =COUNTIF(F4:F48,"*") -> 0
A50: BOYS | B50: =COUNTIF(B4:B48,"M") -> 0 | C50: =COUNTIFS(C4:C48, "*", B4:B48, "m") -> 0 | D50: =COUNTIFS(D4:D48, "*", $B4:$B48, "m") -> 0 | E50: =COUNTIFS(E4:E48, "*", $B4:$B48, "m") -> 0 | F50: =COUNTIFS(F4:F48, "*", $B4:$B48, "m") -> 0
A51: GIRLS | B51: =COUNTIF(B4:B48,"F") -> 0 | C51: =COUNTIFS(C4:C48, "*", B4:B48, "f") -> 0 | D51: =COUNTIFS(D4:D48, "*", $B4:$B48, "f") -> 0 | E51: =COUNTIFS(E4:E48, "*", $B4:$B48, "f") -> 0 | F51: =COUNTIFS(F4:F48, "*", $B4:$B48, "f") -> 0

Sheet Year 4
A1: CURRICULUM PROGRESS: SCIENCE | I1: CURRICULUM PROGRESS: SCIENCE
B2: PUPIL INFORMATION | G2: SCIENCE
A3: NAME | B3: Gender | C3: DIS | D3: SEND | E3: High attainers | F3: EAL | G3: Current assessment | I3: Current assessment: Analysis summary | K3: All pupils | L3: Boys | M3: Girls | N3: DIS | O3: SEND | P3: High attainers | Q3: EAL
I4: Monitoring | J4: Tally | K4: =COUNTIF(G4:G48, "Monitoring") -> 0 | L4: =COUNTIFS(G4:G48, "Monitoring",$B4:$B48, "m") -> 0 | M4: =COUNTIFS(G4:G48, "Monitoring",$B4:$B48, "f") -> 0 | N4: =COUNTIFS(G4:G48, "Monitoring",$C4:$C48, "*") -> 0 | O4: =COUNTIFS(G4:G48, "Monitoring",$D4:$D48, "*") -> 0 | P4: =COUNTIFS(G4:G48, "Monitoring",$E4:$E48, "*") -> 0 | Q4: =COUNTIFS(G4:G48, "Monitoring",$F4:$F48, "*") -> 0
J5: Percentage | K5: =K4/$B$49 -> #DIV/0! | L5: =L4/$B$50 -> #DIV/0! | M5: =M4/$B$51 -> #DIV/0! | N5: =N4/$C$49 -> #DIV/0! | O5: =O4/$D$49 -> #DIV/0! | P5: =P4/$E$49 -> #DIV/0! | Q5: =Q4/$F$49 -> #DIV/0!
I6: On track (inc. Aiming high) | J6: Tally | K6: =COUNTIF(G4:G48, "On track to meet curriculum-related expectations") -> 0 | L6: =COUNTIFS(G4:G48, "On track to meet curriculum-related expectations", $B4:$B48, "m") -> 0 | M6: =COUNTIFS(G4:G48, "On track to meet curriculum-related expectations", $B4:$B48, "f") -> 0 | N6: =COUNTIFS(G4:G48, "On track to meet curriculum-related expectations", $C4:$C48, "*") -> 0 | O6: =COUNTIFS(G4:G48, "On track to meet curriculum-related expectations", $D4:$D48, "*") -> 0 | P6: =COUNTIFS(G4:G48, "On track to meet curriculum-related expectations", $E4:$E48, "*") -> 0 | Q6: =COUNTIFS(G4:G48, "On track to meet curriculum-related expectations", $F4:$F48, "*") -> 0
J7: Percentage | K7: =K6/$B$49 -> #DIV/0! | L7: =L6/$B$50 -> #DIV/0! | M7: =M6/$B$51 -> #DIV/0! | N7: =N6/$C$49 -> #DIV/0! | O7: =O6/$D$49 -> #DIV/0! | P7: =P6/$E$49 -> #DIV/0! | Q7: =Q6/$F$49 -> #DIV/0!
A49: TOTALS | B49: =COUNTIF(B4:B48,"*") -> 0 | C49: =COUNTIF(C4:C48,"*") -> 0 | D49: =COUNTIF(D4:D48,"*") -> 0 | E49: =COUNTIF(E4:E48,"*") -> 0 | F49: =COUNTIF(F4:F48,"*") -> 0
A50: BOYS | B50: =COUNTIF(B4:B48,"M") -> 0 | C50: =COUNTIFS(C4:C48, "*", B4:B48, "m") -> 0 | D50: =COUNTIFS(D4:D48, "*", $B4:$B48, "m") -> 0 | E50: =COUNTIFS(E4:E48, "*", $B4:$B48, "m") -> 0 | F50: =COUNTIFS(F4:F48, "*", $B4:$B48, "m") -> 0
A51: GIRLS | B51: =COUNTIF(B4:B48,"F") -> 0 | C51: =COUNTIFS(C4:C48, "*", B4:B48, "f") -> 0 | D51: =COUNTIFS(D4:D48, "*", $B4:$B48, "f") -> 0 | E51: =COUNTIFS(E4:E48, "*", $B4:$B48, "f") -> 0 | F51: =COUNTIFS(F4:F48, "*", $B4:$B48, "f") -> 0

Sheet Year 5
A1: CURRICULUM PROGRESS: SCIENCE | I1: CURRICULUM PROGRESS: SCIENCE
B2: PUPIL INFORMATION | G2: SCIENCE
A3: NAME | B3: Gender | C3: DIS | D3: SEND | E3: High attainers | F3: EAL | G3: Current assessment | I3: Current assessment: Analysis summary | K3: All pupils | L3: Boys | M3: Girls | N3: DIS | O3: SEND | P3: High attainers | Q3: EAL
I4: Monitoring | J4: Tally | K4: =COUNTIF(G4:G48, "Monitoring") -> 0 | L4: =COUNTIFS(G4:G48, "Monitoring",$B4:$B48, "m") -> 0 | M4: =COUNTIFS(G4:G48, "Monitoring",$B4:$B48, "f") -> 0 | N4: =COUNTIFS(G4:G48, "Monitoring",$C4:$C48, "*") -> 0 | O4: =COUNTIFS(G4:G48, "Monitoring",$D4:$D48, "*") -> 0 | P4: =COUNTIFS(G4:G48, "Monitoring",$E4:$E48, "*") -> 0 | Q4: =COUNTIFS(G4:G48, "Monitoring",$F4:$F48, "*") -> 0
J5: Percentage | K5: =K4/$B$49 -> #DIV/0! | L5: =L4/$B$50 -> #DIV/0! | M5: =M4/$B$51 -> #DIV/0! | N5: =N4/$C$49 -> #DIV/0! | O5: =O4/$D$49 -> #DIV/0! | P5: =P4/$E$49 -> #DIV/0! | Q5: =Q4/$F$49 -> #DIV/0!
I6: On track (inc. Aiming high) | J6: Tally | K6: =COUNTIF(G4:G48, "On track to meet curriculum-related expectations") -> 0 | L6: =COUNTIFS(G4:G48, "On track to meet curriculum-related expectations", $B4:$B48, "m") -> 0 | M6: =COUNTIFS(G4:G48, "On track to meet curriculum-related expectations", $B4:$B48, "f") -> 0 | N6: =COUNTIFS(G4:G48, "On track to meet curriculum-related expectations", $C4:$C48, "*") -> 0 | O6: =COUNTIFS(G4:G48, "On track to meet curriculum-related expectations", $D4:$D48, "*") -> 0 | P6: =COUNTIFS(G4:G48, "On track to meet curriculum-related expectations", $E4:$E48, "*") -> 0 | Q6: =COUNTIFS(G4:G48, "On track to meet curriculum-related expectations", $F4:$F48, "*") -> 0
J7: Percentage | K7: =K6/$B$49 -> #DIV/0! | L7: =L6/$B$50 -> #DIV/0! | M7: =M6/$B$51 -> #DIV/0! | N7: =N6/$C$49 -> #DIV/0! | O7: =O6/$D$49 -> #DIV/0! | P7: =P6/$E$49 -> #DIV/0! | Q7: =Q6/$F$49 -> #DIV/0!
A49: TOTALS | B49: =COUNTIF(B4:B48,"*") -> 0 | C49: =COUNTIF(C4:C48,"*") -> 0 | D49: =COUNTIF(D4:D48,"*") -> 0 | E49: =COUNTIF(E4:E48,"*") -> 0 | F49: =COUNTIF(F4:F48,"*") -> 0
A50: BOYS | B50: =COUNTIF(B4:B48,"M") -> 0 | C50: =COUNTIFS(C4:C48, "*", B4:B48, "m") -> 0 | D50: =COUNTIFS(D4:D48, "*", $B4:$B48, "m") -> 0 | E50: =COUNTIFS(E4:E48, "*", $B4:$B48, "m") -> 0 | F50: =COUNTIFS(F4:F48, "*", $B4:$B48, "m") -> 0
A51: GIRLS | B51: =COUNTIF(B4:B48,"F") -> 0 | C51: =COUNTIFS(C4:C48, "*", B4:B48, "f") -> 0 | D51: =COUNTIFS(D4:D48, "*", $B4:$B48, "f") -> 0 | E51: =COUNTIFS(E4:E48, "*", $B4:$B48, "f") -> 0 | F51: =COUNTIFS(F4:F48, "*", $B4:$B48, "f") -> 0

Sheet Year 6
A1: CURRICULUM PROGRESS: SCIENCE | I1: CURRICULUM PROGRESS: SCIENCE
B2: PUPIL INFORMATION | G2: SCIENCE
A3: NAME | B3: Gender | C3: DIS | D3: SEND | E3: High attainers | F3: EAL | G3: Current assessment | I3: Current assessment: Analysis summary | K3: All pupils | L3: Boys | M3: Girls | N3: DIS | O3: SEND | P3: High attainers | Q3: EAL
I4: Monitoring | J4: Tally | K4: =COUNTIF(G4:G48, "Monitoring") -> 0 | L4: =COUNTIFS(G4:G48, "Monitoring",$B4:$B48, "m") -> 0 | M4: =COUNTIFS(G4:G48, "Monitoring",$B4:$B48, "f") -> 0 | N4: =COUNTIFS(G4:G48, "Monitoring",$C4:$C48, "*") -> 0 | O4: =COUNTIFS(G4:G48, "Monitoring",$D4:$D48, "*") -> 0 | P4: =COUNTIFS(G4:G48, "Monitoring",$E4:$E48, "*") -> 0 | Q4: =COUNTIFS(G4:G48, "Monitoring",$F4:$F48, "*") -> 0
J5: Percentage | K5: =K4/$B$49 -> #DIV/0! | L5: =L4/$B$50 -> #DIV/0! | M5: =M4/$B$51 -> #DIV/0! | N5: =N4/$C$49 -> #DIV/0! | O5: =O4/$D$49 -> #DIV/0! | P5: =P4/$E$49 -> #DIV/0! | Q5: =Q4/$F$49 -> #DIV/0!
I6: On track (inc. Aiming high) | J6: Tally | K6: =COUNTIF(G4:G48, "On track to meet curriculum-related expectations") -> 0 | L6: =COUNTIFS(G4:G48, "On track to meet curriculum-related expectations", $B4:$B48, "m") -> 0 | M6: =COUNTIFS(G4:G48, "On track to meet curriculum-related expectations", $B4:$B48, "f") -> 0 | N6: =COUNTIFS(G4:G48, "On track to meet curriculum-related expectations", $C4:$C48, "*") -> 0 | O6: =COUNTIFS(G4:G48, "On track to meet curriculum-related expectations", $D4:$D48, "*") -> 0 | P6: =COUNTIFS(G4:G48, "On track to meet curriculum-related expectations", $E4:$E48, "*") -> 0 | Q6: =COUNTIFS(G4:G48, "On track to meet curriculum-related expectations", $F4:$F48, "*") -> 0
J7: Percentage | K7: =K6/$B$49 -> #DIV/0! | L7: =L6/$B$50 -> #DIV/0! | M7: =M6/$B$51 -> #DIV/0! | N7: =N6/$C$49 -> #DIV/0! | O7: =O6/$D$49 -> #DIV/0! | P7: =P6/$E$49 -> #DIV/0! | Q7: =Q6/$F$49 -> #DIV/0!
A49: TOTALS | B49: =COUNTIF(B4:B48,"*") -> 0 | C49: =COUNTIF(C4:C48,"*") -> 0 | D49: =COUNTIF(D4:D48,"*") -> 0 | E49: =COUNTIF(E4:E48,"*") -> 0 | F49: =COUNTIF(F4:F48,"*") -> 0
A50: BOYS | B50: =COUNTIF(B4:B48,"M") -> 0 | C50: =COUNTIFS(C4:C48, "*", B4:B48, "m") -> 0 | D50: =COUNTIFS(D4:D48, "*", $B4:$B48, "m") -> 0 | E50: =COUNTIFS(E4:E48, "*", $B4:$B48, "m") -> 0 | F50: =COUNTIFS(F4:F48, "*", $B4:$B48, "m") -> 0
A51: GIRLS | B51: =COUNTIF(B4:B48,"F") -> 0 | C51: =COUNTIFS(C4:C48, "*", B4:B48, "f") -> 0 | D51: =COUNTIFS(D4:D48, "*", $B4:$B48, "f") -> 0 | E51: =COUNTIFS(E4:E48, "*", $B4:$B48, "f") -> 0 | F51: =COUNTIFS(F4:F48, "*", $B4:$B48, "f") -> 0

Sheet Summary Sheet
A1: CURRICULUM PROGRESS SUMMARY: SCIENCE
A2: =TODAY() -> 44868
A4: YEAR 1
A5: Current assessment: Analysis summary | C5: All pupils | D5: Boys | E5: Girls | F5: DIS | G5: SEND | H5: High attainers | I5: EAL
A6: Monitoring | B6: Tally | C6: ='Year 1'!K4 -> 0 | D6: ='Year 1'!L4 -> 0 | E6: ='Year 1'!M4 -> 0 | F6: ='Year 1'!N4 -> 0 | G6: ='Year 1'!O4 -> 0 | H6: ='Year 1'!P4 -> 0 | I6: ='Year 1'!Q4 -> 0
B7: Percentage | C7: ='Year 1'!K5 -> #DIV/0! | D7: ='Year 1'!L5 -> #DIV/0! | E7: ='Year 1'!M5 -> #DIV/0! | F7: ='Year 1'!N5 -> #DIV/0! | G7: ='Year 1'!O5 -> #DIV/0! | H7: ='Year 1'!P5 -> #DIV/0! | I7: ='Year 1'!Q5 -> #DIV/0!
A8: On track (inc. Aiming high) | B8: Tally | C8: ='Year 1'!K6 -> 0 | D8: ='Year 1'!L6 -> 0 | E8: ='Year 1'!M6 -> 0 | F8: ='Year 1'!N6 -> 0 | G8: ='Year 1'!O6 -> 0 | H8: ='Year 1'!P6 -> 0 | I8: ='Year 1'!Q6 -> 0
B9: Percentage | C9: ='Year 1'!K7 -> #DIV/0! | D9: ='Year 1'!L7 -> #DIV/0! | E9: ='Year 1'!M7 -> #DIV/0! | F9: ='Year 1'!N7 -> #DIV/0! | G9: ='Year 1'!O7 -> #DIV/0! | H9: ='Year 1'!P7 -> #DIV/0! | I9: ='Year 1'!Q7 -> #DIV/0!
A11: YEAR 2
A12: Current assessment: Analysis summary | C12: All pupils | D12: Boys | E12: Girls | F12: DIS | G12: SEND | H12: High attainers | I12: EAL
A13: Monitoring | B13: Tally | C13: ='Year 2'!K4 -> 0 | D13: ='Year 2'!L4 -> 0 | E13: ='Year 2'!M4 -> 0 | F13: ='Year 2'!N4 -> 0 | G13: ='Year 2'!O4 -> 0 | H13: ='Year 2'!P4 -> 0 | I13: ='Year 2'!Q4 -> 0
B14: Percentage | C14: ='Year 2'!K5 -> #DIV/0! | D14: ='Year 2'!L5 -> #DIV/0! | E14: ='Year 2'!M5 -> #DIV/0! | F14: ='Year 2'!N5 -> #DIV/0! | G14: ='Year 2'!O5 -> #DIV/0! | H14: ='Year 2'!P5 -> #DIV/0! | I14: ='Year 2'!Q5 -> #DIV/0!
A15: On track (inc. Aiming high) | B15: Tally | C15: ='Year 2'!K6 -> 0 | D15: ='Year 2'!L6 -> 0 | E15: ='Year 2'!M6 -> 0 | F15: ='Year 2'!N6 -> 0 | G15: ='Year 2'!O6 -> 0 | H15: ='Year 2'!P6 -> 0 | I15: ='Year 2'!Q6 -> 0
B16: Percentage | C16: ='Year 2'!K7 -> #DIV/0! | D16: ='Year 2'!L7 -> #DIV/0! | E16: ='Year 2'!M7 -> #DIV/0! | F16: ='Year 2'!N7 -> #DIV/0! | G16: ='Year 2'!O7 -> #DIV/0! | H16: ='Year 2'!P7 -> #DIV/0! | I16: ='Year 2'!Q7 -> #DIV/0!
A18: YEAR 3
A19: Current assessment: Analysis summary | C19: All pupils | D19: Boys | E19: Girls | F19: DIS | G19: SEND | H19: High attainers | I19: EAL
A20: Monitoring | B20: Tally | C20: ='Year 3'!K4 -> 0 | D20: ='Year 3'!L4 -> 0 | E20: ='Year 3'!M4 -> 0 | F20: ='Year 3'!N4 -> 0 | G20: ='Year 3'!O4 -> 0 | H20: ='Year 3'!P4 -> 0 | I20: ='Year 3'!Q4 -> 0
B21: Percentage | C21: ='Year 3'!K5 -> #DIV/0! | D21: ='Year 3'!L5 -> #DIV/0! | E21: ='Year 3'!M5 -> #DIV/0! | F21: ='Year 3'!N5 -> #DIV/0! | G21: ='Year 3'!O5 -> #DIV/0! | H21: ='Year 3'!P5 -> #DIV/0! | I21: ='Year 3'!Q5 -> #DIV/0!
A22: On track (inc. Aiming high) | B22: Tally | C22: ='Year 3'!K6 -> 0 | D22: ='Year 3'!L6 -> 0 | E22: ='Year 3'!M6 -> 0 | F22: ='Year 3'!N6 -> 0 | G22: ='Year 3'!O6 -> 0 | H22: ='Year 3'!P6 -> 0 | I22: ='Year 3'!Q6 -> 0
B23: Percentage | C23: ='Year 3'!K7 -> #DIV/0! | D23: ='Year 3'!L7 -> #DIV/0! | E23: ='Year 3'!M7 -> #DIV/0! | F23: ='Year 3'!N7 -> #DIV/0! | G23: ='Year 3'!O7 -> #DIV/0! | H23: ='Year 3'!P7 -> #DIV/0! | I23: ='Year 3'!Q7 -> #DIV/0!
A25: YEAR 4
A26: Current assessment: Analysis summary | C26: All pupils | D26: Boys | E26: Girls | F26: DIS | G26: SEND | H26: High attainers | I26: EAL
A27: Monitoring | B27: Tally | C27: ='Year 4'!K4 -> 0 | D27: ='Year 4'!L4 -> 0 | E27: ='Year 4'!M4 -> 0 | F27: ='Year 4'!N4 -> 0 | G27: ='Year 4'!O4 -> 0 | H27: ='Year 4'!P4 -> 0 | I27: ='Year 4'!Q4 -> 0
B28: Percentage | C28: ='Year 4'!K5 -> #DIV/0! | D28: ='Year 4'!L5 -> #DIV/0! | E28: ='Year 4'!M5 -> #DIV/0! | F28: ='Year 4'!N5 -> #DIV/0! | G28: ='Year 4'!O5 -> #DIV/0! | H28: ='Year 4'!P5 -> #DIV/0! | I28: ='Year 4'!Q5 -> #DIV/0!
A29: On track (inc. Aiming high) | B29: Tally | C29: ='Year 4'!K6 -> 0 | D29: ='Year 4'!L6 -> 0 | E29: ='Year 4'!M6 -> 0 | F29: ='Year 4'!N6 -> 0 | G29: ='Year 4'!O6 -> 0 | H29: ='Year 4'!P6 -> 0 | I29: ='Year 4'!Q6 -> 0
B30: Percentage | C30: ='Year 4'!K7 -> #DIV/0! | D30: ='Year 4'!L7 -> #DIV/0! | E30: ='Year 4'!M7 -> #DIV/0! | F30: ='Year 4'!N7 -> #DIV/0! | G30: ='Year 4'!O7 -> #DIV/0! | H30: ='Year 4'!P7 -> #DIV/0! | I30: ='Year 4'!Q7 -> #DIV/0!
A32: YEAR 5
A33: Current assessment: Analysis summary | C33: All pupils | D33: Boys | E33: Girls | F33: DIS | G33: SEND | H33: High attainers | I33: EAL
A34: Monitoring | B34: Tally | C34: ='Year 5'!K4 -> 0 | D34: ='Year 5'!L4 -> 0 | E34: ='Year 5'!M4 -> 0 | F34: ='Year 5'!N4 -> 0 | G34: ='Year 5'!O4 -> 0 | H34: ='Year 5'!P4 -> 0 | I34: ='Year 5'!Q4 -> 0
B35: Percentage | C35: ='Year 5'!K5 -> #DIV/0! | D35: ='Year 5'!L5 -> #DIV/0! | E35: ='Year 5'!M5 -> #DIV/0! | F35: ='Year 5'!N5 -> #DIV/0! | G35: ='Year 5'!O5 -> #DIV/0! | H35: ='Year 5'!P5 -> #DIV/0! | I35: ='Year 5'!Q5 -> #DIV/0!
A36: On track (inc. Aiming high) | B36: Tally | C36: ='Year 5'!K6 -> 0 | D36: ='Year 5'!L6 -> 0 | E36: ='Year 5'!M6 -> 0 | F36: ='Year 5'!N6 -> 0 | G36: ='Year 5'!O6 -> 0 | H36: ='Year 5'!P6 -> 0 | I36: ='Year 5'!Q6 -> 0
B37: Percentage | C37: ='Year 5'!K7 -> #DIV/0! | D37: ='Year 5'!L7 -> #DIV/0! | E37: ='Year 5'!M7 -> #DIV/0! | F37: ='Year 5'!N7 -> #DIV/0! | G37: ='Year 5'!O7 -> #DIV/0! | H37: ='Year 5'!P7 -> #DIV/0! | I37: ='Year 5'!Q7 -> #DIV/0!
A39: YEAR 6
A40: Current assessment: Analysis summary | C40: All pupils | D40: Boys | E40: Girls | F40: DIS | G40: SEND | H40: High attainers | I40: EAL
A41: Monitoring | B41: Tally | C41: ='Year 6'!K4 -> 0 | D41: ='Year 6'!L4 -> 0 | E41: ='Year 6'!M4 -> 0 | F41: ='Year 6'!N4 -> 0 | G41: ='Year 6'!O4 -> 0 | H41: ='Year 6'!P4 -> 0 | I41: ='Year 6'!Q4 -> 0
B42: Percentage | C42: ='Year 6'!K5 -> #DIV/0! | D42: ='Year 6'!L5 -> #DIV/0! | E42: ='Year 6'!M5 -> #DIV/0! | F42: ='Year 6'!N5 -> #DIV/0! | G42: ='Year 6'!O5 -> #DIV/0! | H42: ='Year 6'!P5 -> #DIV/0! | I42: ='Year 6'!Q5 -> #DIV/0!
A43: On track (inc. Aiming high) | B43: Tally | C43: ='Year 6'!K6 -> 0 | D43: ='Year 6'!L6 -> 0 | E43: ='Year 6'!M6 -> 0 | F43: ='Year 6'!N6 -> 0 | G43: ='Year 6'!O6 -> 0 | H43: ='Year 6'!P6 -> 0 | I43: ='Year 6'!Q6 -> 0
B44: Percentage | C44: ='Year 6'!K7 -> #DIV/0! | D44: ='Year 6'!L7 -> #DIV/0! | E44: ='Year 6'!M7 -> #DIV/0! | F44: ='Year 6'!N7 -> #DIV/0! | G44: ='Year 6'!O7 -> #DIV/0! | H44: ='Year 6'!P7 -> #DIV/0! | I44: ='Year 6'!Q7 -> #DIV/0!
A46: WHOLE SCHOOL SUMMARY: SCIENCE
A47: Current assessment: Analysis summary | C47: All pupils | D47: Boys | E47: Girls | F47: DIS | G47: SEND | H47: High attainers | I47: EAL
...

Sheet Assessment judgements
A1: Assessment judgements
A2: Monitoring
A3: On track to meet curriculum-related expectations
